BEGIN:VCALENDAR
VERSION:2.0
PRODID:-//communityfoodinitiatives.org//NONSGML kigkonsult.se iCalcreator 2
 .30.10//
CALSCALE:GREGORIAN
METHOD:PUBLISH
UID:5a7a84dc-82fa-47b6-8c65-6d5a95feb1ad
X-WR-CALDESC:Join the Grow & Share Team! Come learn about volunteer opportu
 nities at CFI\, AND learn how to start your own seeds indoors!'
X-WR-RELCALID:8bff1ee109d2c74ff664fa7ae64115d9
X-WR-TIMEZONE:America/New_York
BEGIN:VTIMEZONE
TZID:America/New_York
BEGIN:STANDARD
TZNAME:EST
DTSTART:20221106T020000
TZOFFSETFROM:-0400
TZOFFSETTO:-0500
RDATE:20231105T020000
END:STANDARD
BEGIN:DAYLIGHT
TZNAME:EDT
DTSTART:20220313T020000
TZOFFSETFROM:-0500
TZOFFSETTO:-0400
RDATE:20230312T020000
RDATE:20240310T020000
END:DAYLIGHT
END:VTIMEZONE
BEGIN:VEVENT
UID:988ec21d-3a62-4263-94e5-3679b6fda1fd
DTSTAMP:20260423T081421Z
DESCRIPTION:Join the Grow & Share Team! Come learn about volunteer opportun
 ities at CFI\, AND learn how to start your own seeds indoors!'
DTSTART;TZID=America/New_York:20230302T170000
DTEND;TZID=America/New_York:20230302T180000
LOCATION:Athens County Public Library\, 30 Home Street\, Athens\, OH 45701 
 US
SUMMARY:Outreach Event with Seed Starting
END:VEVENT
END:VCALENDAR
