BEGIN:VCALENDAR
VERSION:2.0
PRODID:-//communityfoodinitiatives.org//NONSGML kigkonsult.se iCalcreator 2
 .30.10//
CALSCALE:GREGORIAN
METHOD:PUBLISH
UID:7b6de7d3-a0fb-406f-a297-e73b578bf2ff
X-WR-CALDESC:**Southside work party times vary weekly.  Please contact us t
 o get details!** Join CFI and other community gardeners to tend your garde
 n plot or help with Donation Station plots!  Please wear close-toed shoes 
 and bring water.  If you have your own garden gloves or other small tools\
 , feel free to bring those as well.  Please contact Raya for directions.
X-WR-RELCALID:793464e377f30b60974ad1d1e94ad4bc
X-WR-TIMEZONE:America/New_York
BEGIN:VTIMEZONE
TZID:America/New_York
BEGIN:STANDARD
TZNAME:EST
DTSTART:20211107T020000
TZOFFSETFROM:-0400
TZOFFSETTO:-0500
RDATE:20221106T020000
RDATE:20231105T020000
END:STANDARD
BEGIN:DAYLIGHT
TZNAME:EDT
DTSTART:20220313T020000
TZOFFSETFROM:-0500
TZOFFSETTO:-0400
RDATE:20230312T020000
RDATE:20240310T020000
END:DAYLIGHT
END:VTIMEZONE
BEGIN:VEVENT
UID:e3c502c9-3e89-41aa-b42f-2a348d0590ca
DTSTAMP:20260423T091314Z
DESCRIPTION:**Southside work party times vary weekly.  Please contact us to
  get details!** Join CFI and other community gardeners to tend your garden
  plot or help with Donation Station plots!  Please wear close-toed shoes a
 nd bring water.  If you have your own garden gloves or other small tools\,
  feel free to bring those as well.  Please contact Raya for directions.
DTSTART;TZID=America/New_York:20221013T160000
DTEND;TZID=America/New_York:20221013T180000
LOCATION:Southside Community Garden
SUMMARY:Southside Community Garden Work Party
END:VEVENT
END:VCALENDAR
