BEGIN:VCALENDAR
VERSION:2.0
PRODID:-//communityfoodinitiatives.org//NONSGML kigkonsult.se iCalcreator 2
 .30.10//
CALSCALE:GREGORIAN
METHOD:PUBLISH
UID:7fb24c43-47c6-460e-b0d6-b4f5cd8400b1
X-WR-CALDESC:This is the first step in getting started as a volunteer with 
 CFI.  You'll meet online with CFI staff to learn about volunteer opportuni
 ties at CFI and we'll provide what you need to start plugging in with our 
 team.  Registration requested.
X-WR-RELCALID:bada8fb30d655dc007712408960d388c
X-WR-TIMEZONE:America/New_York
BEGIN:VTIMEZONE
TZID:America/New_York
BEGIN:STANDARD
TZNAME:EST
DTSTART:20211107T020000
TZOFFSETFROM:-0400
TZOFFSETTO:-0500
RDATE:20221106T020000
RDATE:20231105T020000
END:STANDARD
BEGIN:DAYLIGHT
TZNAME:EDT
DTSTART:20220313T020000
TZOFFSETFROM:-0500
TZOFFSETTO:-0400
RDATE:20230312T020000
RDATE:20240310T020000
END:DAYLIGHT
END:VTIMEZONE
BEGIN:VEVENT
UID:a9c910d3-25fa-4bb0-a5b8-0ea01c3933f9
DTSTAMP:20260423T075419Z
DESCRIPTION:This is the first step in getting started as a volunteer with C
 FI.  You'll meet online with CFI staff to learn about volunteer opportunit
 ies at CFI and we'll provide what you need to start plugging in with our t
 eam.  Registration requested.
DTSTART;TZID=America/New_York:20221012T160000
DTEND;TZID=America/New_York:20221012T170000
LOCATION:https://us02web.zoom.us/j/2210684594
SUMMARY:CFI Volunteer Orientation
END:VEVENT
END:VCALENDAR
