BEGIN:VCALENDAR
VERSION:2.0
PRODID:-//communityfoodinitiatives.org//NONSGML kigkonsult.se iCalcreator 2
 .30.10//
CALSCALE:GREGORIAN
METHOD:PUBLISH
UID:0e04f0fd-7f1e-4e5a-812a-a22535a8cd7e
X-WR-CALDESC:Join CFI and other community gardeners to tend your garden plo
 t or help with Donation Station plots!  Please wear close-toed shoes and b
 ring water.  If you have your own garden gloves or other small tools\, fee
 l free to bring those as well.  Please contact Raya for directions.
X-WR-RELCALID:1030d07a66b1004b2485d41c792c6186
X-WR-TIMEZONE:America/New_York
BEGIN:VTIMEZONE
TZID:America/New_York
BEGIN:STANDARD
TZNAME:EST
DTSTART:20211107T020000
TZOFFSETFROM:-0400
TZOFFSETTO:-0500
RDATE:20221106T020000
RDATE:20231105T020000
END:STANDARD
BEGIN:DAYLIGHT
TZNAME:EDT
DTSTART:20220313T020000
TZOFFSETFROM:-0500
TZOFFSETTO:-0400
RDATE:20230312T020000
RDATE:20240310T020000
END:DAYLIGHT
END:VTIMEZONE
BEGIN:VEVENT
UID:c756bce2-d0c6-47ab-aaa9-fd40cf15c126
DTSTAMP:20260423T091506Z
DESCRIPTION:Join CFI and other community gardeners to tend your garden plot
  or help with Donation Station plots!  Please wear close-toed shoes and br
 ing water.  If you have your own garden gloves or other small tools\, feel
  free to bring those as well.  Please contact Raya for directions.
DTSTART;TZID=America/New_York:20221004T140000
DTEND;TZID=America/New_York:20221004T160000
LOCATION:Nelsonville Community Garden
SUMMARY:Nelsonville Community Garden Work Party
END:VEVENT
END:VCALENDAR
