BEGIN:VCALENDAR
VERSION:2.0
PRODID:-//communityfoodinitiatives.org//NONSGML kigkonsult.se iCalcreator 2
 .30.10//
CALSCALE:GREGORIAN
METHOD:PUBLISH
UID:eaa15c7a-9e11-4a32-bcbd-92cba2d41690
X-WR-CALDESC:CFI will be joining in the Fall Festival fun by making seed mo
 saics that are beautiful as a window decoration\, necklace\, or ornament! 
  Great for kids of all ages!
X-WR-RELCALID:19d3a751b46440ceb443587c4f40eb27
X-WR-TIMEZONE:America/New_York
BEGIN:VTIMEZONE
TZID:America/New_York
BEGIN:STANDARD
TZNAME:EST
DTSTART:20211107T020000
TZOFFSETFROM:-0400
TZOFFSETTO:-0500
RDATE:20221106T020000
RDATE:20231105T020000
END:STANDARD
BEGIN:DAYLIGHT
TZNAME:EDT
DTSTART:20220313T020000
TZOFFSETFROM:-0500
TZOFFSETTO:-0400
RDATE:20230312T020000
RDATE:20240310T020000
END:DAYLIGHT
END:VTIMEZONE
BEGIN:VEVENT
UID:b7045ecc-3d5b-43af-91ba-24798cc0eb4c
DTSTAMP:20260423T091056Z
DESCRIPTION:CFI will be joining in the Fall Festival fun by making seed mos
 aics that are beautiful as a window decoration\, necklace\, or ornament!  
 Great for kids of all ages!
DTSTART;TZID=America/New_York:20221001T120000
DTEND;TZID=America/New_York:20221001T150000
LOCATION:Athens County Public Library\, Athens branch
SUMMARY:CFI seed craft at ACPL Fall Fest
END:VEVENT
END:VCALENDAR
