BEGIN:VCALENDAR
VERSION:2.0
PRODID:-//communityfoodinitiatives.org//NONSGML kigkonsult.se iCalcreator 2
 .30.10//
CALSCALE:GREGORIAN
METHOD:PUBLISH
UID:8def291d-9ed8-4d91-9d90-06bc9c8a03f2
X-WR-CALDESC:**The day/time for Eastside work parties varies during the mon
 th of October.  Contact us if you want to help out!*** \nJoin CFI and othe
 r community gardeners to tend your garden plot or help with Donation Stati
 on plots!  Please wear close-toed shoes and bring water.  If you have your
  own garden gloves or other small tools\, feel free to bring those as well
 .
X-WR-RELCALID:8f0220c42e39e0f17f0b62034a323a2d
X-WR-TIMEZONE:America/New_York
BEGIN:VTIMEZONE
TZID:America/New_York
BEGIN:STANDARD
TZNAME:EST
DTSTART:20211107T020000
TZOFFSETFROM:-0400
TZOFFSETTO:-0500
RDATE:20221106T020000
RDATE:20231105T020000
END:STANDARD
BEGIN:DAYLIGHT
TZNAME:EDT
DTSTART:20220313T020000
TZOFFSETFROM:-0500
TZOFFSETTO:-0400
RDATE:20230312T020000
RDATE:20240310T020000
END:DAYLIGHT
END:VTIMEZONE
BEGIN:VEVENT
UID:aed67e5e-b803-4855-9ba1-118d0871a7ac
DTSTAMP:20260423T102715Z
DESCRIPTION:**The day/time for Eastside work parties varies during the mont
 h of October.  Contact us if you want to help out!*** \nJoin CFI and other
  community gardeners to tend your garden plot or help with Donation Statio
 n plots!  Please wear close-toed shoes and bring water.  If you have your 
 own garden gloves or other small tools\, feel free to bring those as well.
DTSTART;TZID=America/New_York:20220928T090000
DTEND;TZID=America/New_York:20220928T110000
LOCATION:Eastside Community Garden (near the Athens Community Center)
SUMMARY:Eastside Community Garden Work Party
END:VEVENT
END:VCALENDAR
