BEGIN:VCALENDAR
VERSION:2.0
PRODID:-//communityfoodinitiatives.org//NONSGML kigkonsult.se iCalcreator 2
 .30.10//
CALSCALE:GREGORIAN
METHOD:PUBLISH
UID:cbdfec8d-f48b-4bd3-b7b8-7363451274df
X-WR-CALDESC:Please join us for this special community-wide celebration at 
 our Eastside Community Garden!  We'll be unveiling a new mural by Passionw
 orks on the garden shed\, plus celebrating 30 years of growing and sharing
  the harvest as part of an amazing network of support for the long-term wo
 rk of growing regional food security.  There will be garden walks\, kids a
 ctivities\, light refreshments\, live music\, and good fellowship.  Thank 
 you to support from National Endowment for the Arts and Arts Midwest for m
 aking the shed mural possible! \n\nThis engagement is supported by the Art
 s Midwest GIG Fund\, a program of Arts Midwest that is funded by the Natio
 nal Endowment for the Arts\, with additional contributions from the Ohio A
 rts Council.
X-WR-RELCALID:321f505163c43525d7c2a6e7950a7d81
X-WR-TIMEZONE:America/New_York
BEGIN:VTIMEZONE
TZID:America/New_York
BEGIN:STANDARD
TZNAME:EST
DTSTART:20211107T020000
TZOFFSETFROM:-0400
TZOFFSETTO:-0500
RDATE:20221106T020000
RDATE:20231105T020000
END:STANDARD
BEGIN:DAYLIGHT
TZNAME:EDT
DTSTART:20220313T020000
TZOFFSETFROM:-0500
TZOFFSETTO:-0400
RDATE:20230312T020000
RDATE:20240310T020000
END:DAYLIGHT
END:VTIMEZONE
BEGIN:VEVENT
UID:9d4c1920-2088-4bb2-bfd4-ee67081115f7
DTSTAMP:20260423T101524Z
DESCRIPTION:Please join us for this special community-wide celebration at o
 ur Eastside Community Garden!  We'll be unveiling a new mural by Passionwo
 rks on the garden shed\, plus celebrating 30 years of growing and sharing 
 the harvest as part of an amazing network of support for the long-term wor
 k of growing regional food security.  There will be garden walks\, kids ac
 tivities\, light refreshments\, live music\, and good fellowship.  Thank y
 ou to support from National Endowment for the Arts and Arts Midwest for ma
 king the shed mural possible! \n\nThis engagement is supported by the Arts
  Midwest GIG Fund\, a program of Arts Midwest that is funded by the Nation
 al Endowment for the Arts\, with additional contributions from the Ohio Ar
 ts Council.
DTSTART;TZID=America/New_York:20220924T150000
DTEND;TZID=America/New_York:20220924T170000
LOCATION:Eastside Community Garden
SUMMARY:CFI Community Garden Celebration
END:VEVENT
END:VCALENDAR
