BEGIN:VCALENDAR
VERSION:2.0
PRODID:-//communityfoodinitiatives.org//NONSGML kigkonsult.se iCalcreator 2
 .30.10//
CALSCALE:GREGORIAN
METHOD:PUBLISH
UID:f44e4e2d-51ec-4e47-b152-f8425e91fb0c
X-WR-CALDESC:Donation Station will be distributing free\, fresh\, local pro
 duce from 3pm-6pm in the parking lot of Athens County Job and Family Servi
 ces.  Open to all.  Thank you to Athens County Food Pantry and Job and Fam
 ily Services for partnering with us for this event!
X-WR-RELCALID:14360fb11d20a37054bdce7e7ec6cc6c
X-WR-TIMEZONE:America/New_York
BEGIN:VTIMEZONE
TZID:America/New_York
BEGIN:STANDARD
TZNAME:EST
DTSTART:20211107T020000
TZOFFSETFROM:-0400
TZOFFSETTO:-0500
RDATE:20221106T020000
RDATE:20231105T020000
END:STANDARD
BEGIN:DAYLIGHT
TZNAME:EDT
DTSTART:20220313T020000
TZOFFSETFROM:-0500
TZOFFSETTO:-0400
RDATE:20230312T020000
RDATE:20240310T020000
END:DAYLIGHT
END:VTIMEZONE
BEGIN:VEVENT
UID:c1a33253-d13a-490d-8b11-e4028334f596
DTSTAMP:20260423T101517Z
DESCRIPTION:Donation Station will be distributing free\, fresh\, local prod
 uce from 3pm-6pm in the parking lot of Athens County Job and Family Servic
 es.  Open to all.  Thank you to Athens County Food Pantry and Job and Fami
 ly Services for partnering with us for this event!
DTSTART;TZID=America/New_York:20220916T150000
DTEND;TZID=America/New_York:20220916T180000
LOCATION:Job and Family Services
SUMMARY:Community Food Distribution
END:VEVENT
END:VCALENDAR
