BEGIN:VCALENDAR
VERSION:2.0
PRODID:-//communityfoodinitiatives.org//NONSGML kigkonsult.se iCalcreator 2
 .30.10//
CALSCALE:GREGORIAN
METHOD:PUBLISH
UID:f07ad776-a309-467a-b967-2a79f8921594
X-WR-CALDESC:**Southside work party times vary weekly.  Please contact us t
 o get details!** Join CFI and other community gardeners to tend your garde
 n plot or help with Donation Station plots!  Please wear close-toed shoes 
 and bring water.  If you have your own garden gloves or other small tools\
 , feel free to bring those as well.  Please contact Raya for directions.
X-WR-RELCALID:f274f4e6de369415b0324d3e764411da
X-WR-TIMEZONE:America/New_York
BEGIN:VTIMEZONE
TZID:America/New_York
BEGIN:STANDARD
TZNAME:EST
DTSTART:20211107T020000
TZOFFSETFROM:-0400
TZOFFSETTO:-0500
RDATE:20221106T020000
RDATE:20231105T020000
END:STANDARD
BEGIN:DAYLIGHT
TZNAME:EDT
DTSTART:20220313T020000
TZOFFSETFROM:-0500
TZOFFSETTO:-0400
RDATE:20230312T020000
RDATE:20240310T020000
END:DAYLIGHT
END:VTIMEZONE
BEGIN:VEVENT
UID:6a723b55-e7a3-4967-aacc-1290351330d4
DTSTAMP:20260423T101524Z
DESCRIPTION:**Southside work party times vary weekly.  Please contact us to
  get details!** Join CFI and other community gardeners to tend your garden
  plot or help with Donation Station plots!  Please wear close-toed shoes a
 nd bring water.  If you have your own garden gloves or other small tools\,
  feel free to bring those as well.  Please contact Raya for directions.
DTSTART;TZID=America/New_York:20220915T160000
DTEND;TZID=America/New_York:20220915T180000
LOCATION:Southside Community Garden
SUMMARY:Southside Community Garden Work Party
END:VEVENT
END:VCALENDAR
