BEGIN:VCALENDAR
VERSION:2.0
PRODID:-//communityfoodinitiatives.org//NONSGML kigkonsult.se iCalcreator 2
 .30.10//
CALSCALE:GREGORIAN
METHOD:PUBLISH
UID:b153df50-57ae-4e57-82af-2d19af7e5977
X-WR-CALDESC:Join CFI and other community gardeners to tend your garden plo
 t or help with Donation Station plots!  Please wear close-toed shoes and b
 ring water.  If you have your own garden gloves or other small tools\, fee
 l free to bring those as well.
X-WR-RELCALID:66a7e441c1483d87df8714b2be32dd8d
X-WR-TIMEZONE:America/New_York
BEGIN:VTIMEZONE
TZID:America/New_York
BEGIN:STANDARD
TZNAME:EST
DTSTART:20211107T020000
TZOFFSETFROM:-0400
TZOFFSETTO:-0500
RDATE:20221106T020000
RDATE:20231105T020000
END:STANDARD
BEGIN:DAYLIGHT
TZNAME:EDT
DTSTART:20220313T020000
TZOFFSETFROM:-0500
TZOFFSETTO:-0400
RDATE:20230312T020000
RDATE:20240310T020000
END:DAYLIGHT
END:VTIMEZONE
BEGIN:VEVENT
UID:98048670-beeb-48c1-adab-07984e6da450
DTSTAMP:20260423T101543Z
DESCRIPTION:Join CFI and other community gardeners to tend your garden plot
  or help with Donation Station plots!  Please wear close-toed shoes and br
 ing water.  If you have your own garden gloves or other small tools\, feel
  free to bring those as well.
DTSTART;TZID=America/New_York:20220914T090000
DTEND;TZID=America/New_York:20220914T110000
LOCATION:Eastside Community Garden (near the Athens Community Center)
SUMMARY:Eastside Community Garden Work Party
END:VEVENT
END:VCALENDAR
