BEGIN:VCALENDAR
VERSION:2.0
PRODID:-//communityfoodinitiatives.org//NONSGML kigkonsult.se iCalcreator 2
 .30.10//
CALSCALE:GREGORIAN
METHOD:PUBLISH
UID:9c75df65-fa95-4aa4-b814-abf6f46492dd
X-WR-CALDESC:The CFI Youth Garden Club at the Hive will work on projects su
 ch as installing educational and sensory garden areas at the Hive and the 
 Nelsonville Community Garden. Through fun\, creative garden-related activi
 ties\, we can empower participating youth to learn about where their food 
 comes from.
X-WR-RELCALID:59c9dd25264e45d194da36263c9a03e0
X-WR-TIMEZONE:America/New_York
BEGIN:VTIMEZONE
TZID:America/New_York
BEGIN:STANDARD
TZNAME:EST
DTSTART:20211107T020000
TZOFFSETFROM:-0400
TZOFFSETTO:-0500
RDATE:20221106T020000
RDATE:20231105T020000
END:STANDARD
BEGIN:DAYLIGHT
TZNAME:EDT
DTSTART:20220313T020000
TZOFFSETFROM:-0500
TZOFFSETTO:-0400
RDATE:20230312T020000
END:DAYLIGHT
END:VTIMEZONE
BEGIN:VEVENT
UID:ea35a8a9-f48d-44ad-8ad6-50d78885c6e6
DTSTAMP:20260423T122347Z
DESCRIPTION:The CFI Youth Garden Club at the Hive will work on projects suc
 h as installing educational and sensory garden areas at the Hive and the N
 elsonville Community Garden. Through fun\, creative garden-related activit
 ies\, we can empower participating youth to learn about where their food c
 omes from.
DTSTART;TZID=America/New_York:20220714T093000
DTEND;TZID=America/New_York:20220714T113000
LOCATION:Nelsonville Community Garden
SUMMARY:The HIVE Garden Club
END:VEVENT
END:VCALENDAR
