BEGIN:VCALENDAR
VERSION:2.0
PRODID:-//communityfoodinitiatives.org//NONSGML kigkonsult.se iCalcreator 2
 .30.10//
CALSCALE:GREGORIAN
METHOD:PUBLISH
UID:5445ed6c-fe0f-41ee-93c0-9541e77a2336
X-WR-CALDESC:The Summer Kids' Discovery Club is packed full of character-bu
 ilding fun\, learning\, and action…topped off with healthy and delicious f
 ood.  The camp will meet daily\, June 20th-August 4th\, at The Plains Unit
 ed Methodist Church (on the corner of Johnson Road and 682) in The Plains.
 \nUnder the leadership of Good Works’ staff\, interns and volunteers\, the
  Summer Kids’ Discovery Club seeks to provide a safe\, cost-free and meani
 ngful summer experience for kids from all backgrounds between the ages of 
 5 and 12. Through one-time presentations on a variety of topics such as an
 imals\, our environment\, healthy dental practices\, different cultures\, 
 insects\, farming\, and more\, community members can share something new w
 ith (and sometimes\, learn from!) the kids who participate in the summer w
 ith us.  CFI will be leading an activity on July13.
X-WR-RELCALID:ab1b54aa3409a7e16ce8b17d88ee0de8
X-WR-TIMEZONE:America/New_York
BEGIN:VTIMEZONE
TZID:America/New_York
BEGIN:STANDARD
TZNAME:EST
DTSTART:20211107T020000
TZOFFSETFROM:-0400
TZOFFSETTO:-0500
RDATE:20221106T020000
RDATE:20231105T020000
END:STANDARD
BEGIN:DAYLIGHT
TZNAME:EDT
DTSTART:20220313T020000
TZOFFSETFROM:-0500
TZOFFSETTO:-0400
RDATE:20230312T020000
END:DAYLIGHT
END:VTIMEZONE
BEGIN:VEVENT
UID:d699b96a-f99e-4d8a-9c0e-8174456c3c60
DTSTAMP:20260423T121935Z
DESCRIPTION:The Summer Kids' Discovery Club is packed full of character-bui
 lding fun\, learning\, and action…topped off with healthy and delicious fo
 od.  The camp will meet daily\, June 20th-August 4th\, at The Plains Unite
 d Methodist Church (on the corner of Johnson Road and 682) in The Plains.
 \nUnder the leadership of Good Works’ staff\, interns and volunteers\, the
  Summer Kids’ Discovery Club seeks to provide a safe\, cost-free and meani
 ngful summer experience for kids from all backgrounds between the ages of 
 5 and 12. Through one-time presentations on a variety of topics such as an
 imals\, our environment\, healthy dental practices\, different cultures\, 
 insects\, farming\, and more\, community members can share something new w
 ith (and sometimes\, learn from!) the kids who participate in the summer w
 ith us.  CFI will be leading an activity on July13.
DTSTART;TZID=America/New_York:20220713T090000
DTEND;TZID=America/New_York:20220713T110000
LOCATION:The Plains United Methodist Church
SUMMARY:Kids Discovery Club
END:VEVENT
END:VCALENDAR
