BEGIN:VCALENDAR
VERSION:2.0
PRODID:-//communityfoodinitiatives.org//NONSGML kigkonsult.se iCalcreator 2
 .30.10//
CALSCALE:GREGORIAN
METHOD:PUBLISH
UID:355f3936-3fac-4b4d-8388-2d489f86a5ec
X-WR-CALDESC:Ohio Valley Museum of Discovery Summer Discovery Camp will fea
 ture STEAM (Science\, Technology\, Engineering\, Arts\, & Mathematics) top
 ics and activities with special guests like scientists\, artists\, and mor
 e!
X-WR-RELCALID:9b7dc530d37175f2a246343f22957dbb
X-WR-TIMEZONE:America/New_York
BEGIN:VTIMEZONE
TZID:America/New_York
BEGIN:STANDARD
TZNAME:EST
DTSTART:20211107T020000
TZOFFSETFROM:-0400
TZOFFSETTO:-0500
RDATE:20221106T020000
RDATE:20231105T020000
END:STANDARD
BEGIN:DAYLIGHT
TZNAME:EDT
DTSTART:20220313T020000
TZOFFSETFROM:-0500
TZOFFSETTO:-0400
RDATE:20230312T020000
END:DAYLIGHT
END:VTIMEZONE
BEGIN:VEVENT
UID:c9c3c46f-ade8-49d0-8ce0-6c838617fbf9
DTSTAMP:20260423T122107Z
DESCRIPTION:Ohio Valley Museum of Discovery Summer Discovery Camp will feat
 ure STEAM (Science\, Technology\, Engineering\, Arts\, & Mathematics) topi
 cs and activities with special guests like scientists\, artists\, and more
 !
DTSTART;TZID=America/New_York:20220705T090000
DTEND;TZID=America/New_York:20220705T120000
LOCATION:Shade Community Center
SUMMARY:Ohio Valley Museum of Discovery Summer Camp
END:VEVENT
END:VCALENDAR
