BEGIN:VCALENDAR
VERSION:2.0
PRODID:-//communityfoodinitiatives.org//NONSGML kigkonsult.se iCalcreator 2
 .30.10//
CALSCALE:GREGORIAN
METHOD:PUBLISH
UID:467c622b-2db9-48d0-8f82-21b9cd9fd1cb
X-WR-CALDESC:Join CFI and other community gardeners to tend your garden plo
 t or help with Donation Station plots!  Please wear close-toed shoes and b
 ring water.  If you have your own garden gloves or other small tools\, fee
 l free to bring those as well.  Please contact Raya for directions.
X-WR-RELCALID:172edd7a4608c97a4ec43c2410da49ab
X-WR-TIMEZONE:America/New_York
BEGIN:VTIMEZONE
TZID:America/New_York
BEGIN:STANDARD
TZNAME:EST
DTSTART:20211107T020000
TZOFFSETFROM:-0400
TZOFFSETTO:-0500
RDATE:20221106T020000
RDATE:20231105T020000
END:STANDARD
BEGIN:DAYLIGHT
TZNAME:EDT
DTSTART:20220313T020000
TZOFFSETFROM:-0500
TZOFFSETTO:-0400
RDATE:20230312T020000
END:DAYLIGHT
END:VTIMEZONE
BEGIN:VEVENT
UID:52ed2ba2-711e-457c-9005-7e9ad5154d85
DTSTAMP:20260423T122237Z
DESCRIPTION:Join CFI and other community gardeners to tend your garden plot
  or help with Donation Station plots!  Please wear close-toed shoes and br
 ing water.  If you have your own garden gloves or other small tools\, feel
  free to bring those as well.  Please contact Raya for directions.
DTSTART;TZID=America/New_York:20220705T160000
DTEND;TZID=America/New_York:20220705T180000
LOCATION:Nelsonville Community Garden
SUMMARY:Nelsonville Community Garden Work Party
END:VEVENT
END:VCALENDAR
