BEGIN:VCALENDAR
VERSION:2.0
PRODID:-//communityfoodinitiatives.org//NONSGML kigkonsult.se iCalcreator 2
 .30.10//
CALSCALE:GREGORIAN
METHOD:PUBLISH
UID:da358ad2-e472-4104-941f-ad7144abbc8a
X-WR-CALDESC:Free to all residents  of the Hope Drive Apartments\, this Sum
 mer Garden Club offers folks a space to connect with their neighbors while
  working in their Community Garden space together. We’ll of course be gett
 ing our hands dirty planting and harvesting\, and there will also be garde
 n-related crafts and activities\, cooking demos\, snacks\, and more!
X-WR-RELCALID:8ce0e701ce24355ba21d04c5075118e3
X-WR-TIMEZONE:America/New_York
BEGIN:VTIMEZONE
TZID:America/New_York
BEGIN:STANDARD
TZNAME:EST
DTSTART:20211107T020000
TZOFFSETFROM:-0400
TZOFFSETTO:-0500
RDATE:20221106T020000
RDATE:20231105T020000
END:STANDARD
BEGIN:DAYLIGHT
TZNAME:EDT
DTSTART:20220313T020000
TZOFFSETFROM:-0500
TZOFFSETTO:-0400
RDATE:20230312T020000
END:DAYLIGHT
END:VTIMEZONE
BEGIN:VEVENT
UID:a0c658f0-7111-44af-8c53-e3e3f0b0354d
DTSTAMP:20260423T134408Z
DESCRIPTION:Free to all residents  of the Hope Drive Apartments\, this Summ
 er Garden Club offers folks a space to connect with their neighbors while 
 working in their Community Garden space together. We’ll of course be getti
 ng our hands dirty planting and harvesting\, and there will also be garden
 -related crafts and activities\, cooking demos\, snacks\, and more!
DTSTART;TZID=America/New_York:20220628T093000
DTEND;TZID=America/New_York:20220628T120000
LOCATION:Hope Drive Community Garden
SUMMARY:Hope Drive Garden Club
END:VEVENT
END:VCALENDAR
