BEGIN:VCALENDAR
VERSION:2.0
PRODID:-//communityfoodinitiatives.org//NONSGML kigkonsult.se iCalcreator 2
 .30.10//
CALSCALE:GREGORIAN
METHOD:PUBLISH
UID:c023f0cb-00f8-4c78-8fb1-83472bd0814b
X-WR-CALDESC:On May 10th and 11th\, Community Food Initiatives will host ou
 r annual plant start giveaway at the following times and locations: \nTues
 day\, May 10th\, 5pm-7pm: Athens ACEnet\, 94 Columbus Road\, Athens\, OH\n
 Wednesday\, May 11th\, 3:30-5:30pm: Veggie Van @ Coolville Public Library\
 , Coolville\, OH\nWednesday\, May 11th\, 5pm-7pm: Nelsonville ACEnet\, 296
  S Harper Street\, Nelsonville\, OH \n\nPlant starts are available to any 
 community member at no cost\; you do not need to sign up in advance.  We i
 nvite all Garden Giveaway participants to Grow-a-Row for CFI\, sharing a p
 ortion of your harvest with Donation Station.  \nSelection will include pl
 enty of tomato plants thanks to Jackson Area Ministries\, and a limited nu
 mber of other vegetables and herbs.  \nThis event is free and open to all.
   We invite those who are able to donate to keep our garden giveaways goin
 g!  Please call 740-593-5971 with any questions. \n
X-WR-RELCALID:7249cf62f208224edc00dab96ced043d
X-WR-TIMEZONE:America/New_York
BEGIN:VTIMEZONE
TZID:America/New_York
BEGIN:STANDARD
TZNAME:EST
DTSTART:20211107T020000
TZOFFSETFROM:-0400
TZOFFSETTO:-0500
RDATE:20221106T020000
RDATE:20231105T020000
END:STANDARD
BEGIN:DAYLIGHT
TZNAME:EDT
DTSTART:20220313T020000
TZOFFSETFROM:-0500
TZOFFSETTO:-0400
RDATE:20230312T020000
END:DAYLIGHT
END:VTIMEZONE
BEGIN:VEVENT
UID:b1ed4268-b244-48af-955c-f1b3d69fc535
DTSTAMP:20260423T144740Z
DESCRIPTION:On May 10th and 11th\, Community Food Initiatives will host our
  annual plant start giveaway at the following times and locations: \nTuesd
 ay\, May 10th\, 5pm-7pm: Athens ACEnet\, 94 Columbus Road\, Athens\, OH\nW
 ednesday\, May 11th\, 3:30-5:30pm: Veggie Van @ Coolville Public Library\,
  Coolville\, OH\nWednesday\, May 11th\, 5pm-7pm: Nelsonville ACEnet\, 296 
 S Harper Street\, Nelsonville\, OH \n\nPlant starts are available to any c
 ommunity member at no cost\; you do not need to sign up in advance.  We in
 vite all Garden Giveaway participants to Grow-a-Row for CFI\, sharing a po
 rtion of your harvest with Donation Station.  \nSelection will include ple
 nty of tomato plants thanks to Jackson Area Ministries\, and a limited num
 ber of other vegetables and herbs.  \nThis event is free and open to all. 
  We invite those who are able to donate to keep our garden giveaways going
 !  Please call 740-593-5971 with any questions. \n
DTSTART;TZID=America/New_York:20220510T170000
DTEND;TZID=America/New_York:20220510T190000
LOCATION:Athens ACEnet\, 94 Columbus Road\, Athens\, OH 45701 US
SUMMARY:Plant Start Giveaway
END:VEVENT
END:VCALENDAR
