BEGIN:VCALENDAR
VERSION:2.0
PRODID:-//communityfoodinitiatives.org//NONSGML kigkonsult.se iCalcreator 2
 .30.10//
CALSCALE:GREGORIAN
METHOD:PUBLISH
UID:e135f3a6-9030-4790-8fb2-b9be9a1b2f1b
X-WR-CALDESC:On Friday\, April 1\, from 5pm-7pm\, Community Food Initiative
 s [CFI] will host their annual member meeting at the Athens Community Cent
 er at 701 E State Street in Athens\, Ohio.  All are invited to attend this
  celebration of local food\, community\, and 30 years of growing and shari
 ng the harvest. \n\nThe event will start with a community potluck and is f
 ree and open to the public.  Bring a dish to share and your own place sett
 ing if you’re able. CFI members will vote on Board officers following the 
 potluck.  Any non-members interested in attending and participating in vot
 ing may sign up for membership at the event.  \n\nEvery year\, Community F
 ood Initiatives hosts their annual member meeting to share good food and f
 ellowship with the people who make their work possible.  This year is espe
 cially meaningful as CFI celebrates three decades of work\, and as they re
 turn to an in person gathering after moving the meeting to a virtual forma
 t in 2021.  The meeting also provides a space to recognize volunteers\, sh
 are stories\, meet staff and Board members\, and build community relations
 hips that are at the heart of all CFI does. \n
X-WR-RELCALID:6e1fdb8a81eddc56bebc8bdc678f99e0
X-WR-TIMEZONE:America/New_York
BEGIN:VTIMEZONE
TZID:America/New_York
BEGIN:STANDARD
TZNAME:EST
DTSTART:20211107T020000
TZOFFSETFROM:-0400
TZOFFSETTO:-0500
RDATE:20221106T020000
END:STANDARD
BEGIN:DAYLIGHT
TZNAME:EDT
DTSTART:20220313T020000
TZOFFSETFROM:-0500
TZOFFSETTO:-0400
RDATE:20230312T020000
END:DAYLIGHT
END:VTIMEZONE
BEGIN:VEVENT
UID:c22f22d2-c2c3-4dc2-9286-fc75c0108f11
DTSTAMP:20260423T160728Z
DESCRIPTION:On Friday\, April 1\, from 5pm-7pm\, Community Food Initiatives
  [CFI] will host their annual member meeting at the Athens Community Cente
 r at 701 E State Street in Athens\, Ohio.  All are invited to attend this 
 celebration of local food\, community\, and 30 years of growing and sharin
 g the harvest. \n\nThe event will start with a community potluck and is fr
 ee and open to the public.  Bring a dish to share and your own place setti
 ng if you’re able. CFI members will vote on Board officers following the p
 otluck.  Any non-members interested in attending and participating in voti
 ng may sign up for membership at the event.  \n\nEvery year\, Community Fo
 od Initiatives hosts their annual member meeting to share good food and fe
 llowship with the people who make their work possible.  This year is espec
 ially meaningful as CFI celebrates three decades of work\, and as they ret
 urn to an in person gathering after moving the meeting to a virtual format
  in 2021.  The meeting also provides a space to recognize volunteers\, sha
 re stories\, meet staff and Board members\, and build community relationsh
 ips that are at the heart of all CFI does. \n
DTSTART;TZID=America/New_York:20220401T170000
DTEND;TZID=America/New_York:20220401T190000
LOCATION:Athens Community Center\, 701 E State Street\, Athens\, Ohio
SUMMARY:CFI Annual Member Meeting 2022
END:VEVENT
END:VCALENDAR
