BEGIN:VCALENDAR
VERSION:2.0
PRODID:-//communityfoodinitiatives.org//NONSGML kigkonsult.se iCalcreator 2
 .30.10//
CALSCALE:GREGORIAN
METHOD:PUBLISH
UID:68b15064-1e15-4eff-98af-77a8e2a12de2
X-WR-CALDESC:On Thursday\, March 24th\, Community Food Initiatives (CFI) wi
 ll host their annual Seed Potato garden giveaway at the Nelsonville ACEnet
  Business Center and Food Hub\, 296 S. Harper Street\, Nelsonville\, OH 45
 764.  Over 30\,000 pounds of seed potatoes will be available and free to t
 he public between 1pm and 5pm.\n\nThe giveaway will take place outside on 
 the south side of the Nelsonville ACEnet warehouse.  Community Food Initia
 tives asks all those participating to please be mindful of social distanci
 ng.  \n\nCommunity Food Initiatives hosts garden giveaways every year as p
 art of their mission to increase regional food security by supporting equi
 table access to healthy\, locally grown food. Information about CFI’s Grow
 -A-Row project will be available for all participants\, inviting any commu
 nity member to share a portion of their harvest with the Donation Station.
   \n\nThe seed potato giveaway is supported in part by Jackson Area Minist
 ries\, an organization based in Jackson\, OH\, that coordinates the delive
 ry.  Seed potatoes are intended for planting\, each potato typically cut t
 o create 2-3 plant starts.  Average yield is 6-10 potatoes for each potato
  section that is planted.  This means that 10 seed potatoes could yield 12
 0 potatoes for eating.  With proper care\, seed potatoes should yield a ha
 rvest after 100 days.  CFI will provide planting instructions at the givea
 way.  \n
X-WR-RELCALID:9c23a87d380a87d2c480d76187b55251
X-WR-TIMEZONE:America/New_York
BEGIN:VTIMEZONE
TZID:America/New_York
BEGIN:STANDARD
TZNAME:EST
DTSTART:20211107T020000
TZOFFSETFROM:-0400
TZOFFSETTO:-0500
RDATE:20221106T020000
END:STANDARD
BEGIN:DAYLIGHT
TZNAME:EDT
DTSTART:20220313T020000
TZOFFSETFROM:-0500
TZOFFSETTO:-0400
RDATE:20230312T020000
END:DAYLIGHT
END:VTIMEZONE
BEGIN:VEVENT
UID:e847f14f-9469-4cff-a6ba-734984f0b986
DTSTAMP:20260423T172831Z
DESCRIPTION:On Thursday\, March 24th\, Community Food Initiatives (CFI) wil
 l host their annual Seed Potato garden giveaway at the Nelsonville ACEnet 
 Business Center and Food Hub\, 296 S. Harper Street\, Nelsonville\, OH 457
 64.  Over 30\,000 pounds of seed potatoes will be available and free to th
 e public between 1pm and 5pm.\n\nThe giveaway will take place outside on t
 he south side of the Nelsonville ACEnet warehouse.  Community Food Initiat
 ives asks all those participating to please be mindful of social distancin
 g.  \n\nCommunity Food Initiatives hosts garden giveaways every year as pa
 rt of their mission to increase regional food security by supporting equit
 able access to healthy\, locally grown food. Information about CFI’s Grow-
 A-Row project will be available for all participants\, inviting any commun
 ity member to share a portion of their harvest with the Donation Station. 
  \n\nThe seed potato giveaway is supported in part by Jackson Area Ministr
 ies\, an organization based in Jackson\, OH\, that coordinates the deliver
 y.  Seed potatoes are intended for planting\, each potato typically cut to
  create 2-3 plant starts.  Average yield is 6-10 potatoes for each potato 
 section that is planted.  This means that 10 seed potatoes could yield 120
  potatoes for eating.  With proper care\, seed potatoes should yield a har
 vest after 100 days.  CFI will provide planting instructions at the giveaw
 ay.  \n
DTSTART;TZID=America/New_York:20220324T130000
DTEND;TZID=America/New_York:20220324T170000
LOCATION:Nelsonville ACEnet Business Center\, 296 S Harper Street\, Nelsonv
 ille\, OH
SUMMARY:Annual Seed Potato Giveaway
END:VEVENT
END:VCALENDAR
