BEGIN:VCALENDAR
VERSION:2.0
PRODID:-//communityfoodinitiatives.org//NONSGML kigkonsult.se iCalcreator 2
 .30.10//
CALSCALE:GREGORIAN
METHOD:PUBLISH
UID:ea155242-ff16-4d92-9730-272e91396a46
X-WR-CALDESC:Come join us for a very special Discovery Kitchen workshop int
 egrated with a wonderful Patton College of Education event!\nIn recognitio
 n of The United Nations International Day for the Elimination of Racial Di
 scrimination\, the Diversity\, Equity and Inclusion Committee in The Patto
 n College of Education at Ohio University is sponsoring two livestream eve
 nts. (Both events will be recorded and\navailable on The Patton College Yo
 uTube Channel.)\n\nUsing local ingredients\, Dr. Lucky Odirile\, Ph.D.\, V
 isiting Scholar in The Patton College\nof Education\, and Ravi Harley\, CO
 MCorps Food Access Coordinator with Community Food Initiatives\, will demo
 nstrate traditional Botswanan meal offerings. Global food insecurities and
  local food systems\nwill be highlighted.
X-WR-RELCALID:a2df5456705616760d37b7d68193270e
X-WR-TIMEZONE:America/New_York
BEGIN:VTIMEZONE
TZID:America/New_York
BEGIN:STANDARD
TZNAME:EST
DTSTART:20211107T020000
TZOFFSETFROM:-0400
TZOFFSETTO:-0500
RDATE:20221106T020000
END:STANDARD
BEGIN:DAYLIGHT
TZNAME:EDT
DTSTART:20220313T020000
TZOFFSETFROM:-0500
TZOFFSETTO:-0400
RDATE:20230312T020000
END:DAYLIGHT
END:VTIMEZONE
BEGIN:VEVENT
UID:22f8692c-3df7-47b9-8229-c090c8b72b4f
DTSTAMP:20260423T173556Z
DESCRIPTION:Come join us for a very special Discovery Kitchen workshop inte
 grated with a wonderful Patton College of Education event!\nIn recognition
  of The United Nations International Day for the Elimination of Racial Dis
 crimination\, the Diversity\, Equity and Inclusion Committee in The Patton
  College of Education at Ohio University is sponsoring two livestream even
 ts. (Both events will be recorded and\navailable on The Patton College You
 Tube Channel.)\n\nUsing local ingredients\, Dr. Lucky Odirile\, Ph.D.\, Vi
 siting Scholar in The Patton College\nof Education\, and Ravi Harley\, COM
 Corps Food Access Coordinator with Community Food Initiatives\, will demon
 strate traditional Botswanan meal offerings. Global food insecurities and 
 local food systems\nwill be highlighted.
DTSTART;TZID=America/New_York:20220321T110000
DTEND;TZID=America/New_York:20220321T120000
LOCATION:https://www.givepulse.com/event/284287-Eat-Global-Buy-Local-World-
 Cuisine-and-Culture-Demonstration-of-Foods-from-Botswana
SUMMARY:Eat Global-Buy Local World Cuisine & Culture Demonstration of Foods
  from Botswana
END:VEVENT
END:VCALENDAR
