BEGIN:VCALENDAR
VERSION:2.0
PRODID:-//communityfoodinitiatives.org//NONSGML kigkonsult.se iCalcreator 2
 .30.10//
CALSCALE:GREGORIAN
METHOD:PUBLISH
UID:d4b7ba48-fcde-431f-9e86-d19a7ad68efc
X-WR-CALDESC:Come join us for a beer & support our work to build a thriving
  and equitable local food system!
X-WR-RELCALID:7274bac4b351b209d3089155d2f863dc
X-WR-TIMEZONE:America/New_York
BEGIN:VTIMEZONE
TZID:America/New_York
BEGIN:STANDARD
TZNAME:EST
DTSTART:20211107T020000
TZOFFSETFROM:-0400
TZOFFSETTO:-0500
RDATE:20221106T020000
END:STANDARD
BEGIN:DAYLIGHT
TZNAME:EDT
DTSTART:20210314T020000
TZOFFSETFROM:-0500
TZOFFSETTO:-0400
RDATE:20220313T020000
RDATE:20230312T020000
END:DAYLIGHT
END:VTIMEZONE
BEGIN:VEVENT
UID:01904686-f6e2-49e4-96d6-c11f462af96a
DTSTAMP:20260423T172353Z
DESCRIPTION:Come join us for a beer & support our work to build a thriving 
 and equitable local food system!
DTSTART;TZID=America/New_York:20220302T170000
DTEND;TZID=America/New_York:20220302T200000
LOCATION:Devil's Kettle Brewing\, 97 Columbus Road\, Athens\, OH 45701 US
SUMMARY:Drafts for a Difference
END:VEVENT
END:VCALENDAR
