BEGIN:VCALENDAR
VERSION:2.0
PRODID:-//communityfoodinitiatives.org//NONSGML kigkonsult.se iCalcreator 2
 .30.10//
CALSCALE:GREGORIAN
METHOD:PUBLISH
UID:a89f22d4-81fb-4592-acde-00c3e22161cc
X-WR-CALDESC:The Farm to Institution Midwest Summit will take place Februar
 y 28 - March 2\, 2022\, and will feature both online sessions and in-perso
 n events to highlight how institutional investment in local food procureme
 nt strengthens communities.  Registration is free and all are encouraged t
 o join these highly relevant conversations about the importance of robust 
 regional food systems.  Sessions will be of particular interest to student
 s\, local community\, government\, and higher education leaders\, and food
  producers.  Register online: bit.ly/registerF2iM
X-WR-RELCALID:f543dc47bee760c73cf2f12de60de454
X-WR-TIMEZONE:America/New_York
BEGIN:VTIMEZONE
TZID:America/New_York
BEGIN:STANDARD
TZNAME:EST
DTSTART:20211107T020000
TZOFFSETFROM:-0400
TZOFFSETTO:-0500
RDATE:20221106T020000
END:STANDARD
BEGIN:DAYLIGHT
TZNAME:EDT
DTSTART:20210314T020000
TZOFFSETFROM:-0500
TZOFFSETTO:-0400
RDATE:20220313T020000
RDATE:20230312T020000
END:DAYLIGHT
END:VTIMEZONE
BEGIN:VEVENT
UID:581e2a6b-c612-477f-9bae-00584f9612b3
DTSTAMP:20260423T183435Z
DESCRIPTION:The Farm to Institution Midwest Summit will take place February
  28 - March 2\, 2022\, and will feature both online sessions and in-person
  events to highlight how institutional investment in local food procuremen
 t strengthens communities.  Registration is free and all are encouraged to
  join these highly relevant conversations about the importance of robust r
 egional food systems.  Sessions will be of particular interest to students
 \, local community\, government\, and higher education leaders\, and food 
 producers.  Register online: bit.ly/registerF2iM
DTSTART;TZID=America/New_York:20220228T090000
DTEND;TZID=America/New_York:20220228T150000
LOCATION:https://www.ohio.edu/sustainability/farm-institution-summit-ohio-u
 niversity
SUMMARY:Farm to Institution Midwest Summit
END:VEVENT
END:VCALENDAR
