BEGIN:VCALENDAR
VERSION:2.0
PRODID:-//communityfoodinitiatives.org//NONSGML kigkonsult.se iCalcreator 2
 .30.10//
CALSCALE:GREGORIAN
METHOD:PUBLISH
UID:adb2ec6c-a8b8-46a5-96d2-274c4f836f43
X-WR-CALDESC:Join us in our community garden and either work in your own pl
 ot\, help with Donation Station plots\, or help a neighbor!  Tools are pro
 vided.  All are welcome!
X-WR-RELCALID:98e7e620c1dfd7ddbb25bf0afa58f59a
X-WR-TIMEZONE:America/New_York
BEGIN:VTIMEZONE
TZID:America/New_York
BEGIN:STANDARD
TZNAME:EST
DTSTART:20201101T020000
TZOFFSETFROM:-0400
TZOFFSETTO:-0500
RDATE:20211107T020000
RDATE:20221106T020000
END:STANDARD
BEGIN:DAYLIGHT
TZNAME:EDT
DTSTART:20210314T020000
TZOFFSETFROM:-0500
TZOFFSETTO:-0400
RDATE:20220313T020000
END:DAYLIGHT
END:VTIMEZONE
BEGIN:VEVENT
UID:398b696b-f770-44d4-9224-28b28052090c
DTSTAMP:20260426T040021Z
DESCRIPTION:Join us in our community garden and either work in your own plo
 t\, help with Donation Station plots\, or help a neighbor!  Tools are prov
 ided.  All are welcome!
DTSTART;TZID=America/New_York:20210825T160000
DTEND;TZID=America/New_York:20210825T180000
LOCATION:Southside Community Garden\, Athens\, OH (near Campus Heights)
SUMMARY:Southside Garden Work Party
END:VEVENT
END:VCALENDAR
