BEGIN:VCALENDAR
VERSION:2.0
PRODID:-//communityfoodinitiatives.org//NONSGML kigkonsult.se iCalcreator 2
 .30.10//
CALSCALE:GREGORIAN
METHOD:PUBLISH
UID:3c26b5fe-b141-4a71-b4bc-6a831fa49261
X-WR-CALDESC:Join us in our community garden and either work in your own pl
 ot\, help with Donation Station plots\, or help a neighbor!  Tools are pro
 vided.  All are welcome!
X-WR-RELCALID:0038d19b1250702e96b440ec01b62caa
X-WR-TIMEZONE:America/New_York
BEGIN:VTIMEZONE
TZID:America/New_York
BEGIN:STANDARD
TZNAME:EST
DTSTART:20201101T020000
TZOFFSETFROM:-0400
TZOFFSETTO:-0500
RDATE:20211107T020000
RDATE:20221106T020000
END:STANDARD
BEGIN:DAYLIGHT
TZNAME:EDT
DTSTART:20210314T020000
TZOFFSETFROM:-0500
TZOFFSETTO:-0400
RDATE:20220313T020000
END:DAYLIGHT
END:VTIMEZONE
BEGIN:VEVENT
UID:004398ad-4f60-48c7-a2bd-542fc67ab122
DTSTAMP:20260426T035914Z
DESCRIPTION:Join us in our community garden and either work in your own plo
 t\, help with Donation Station plots\, or help a neighbor!  Tools are prov
 ided.  All are welcome!
DTSTART;TZID=America/New_York:20210803T160000
DTEND;TZID=America/New_York:20210803T180000
LOCATION:Eastside Community Garden\, East State Street\, Athens\, OH (near 
 the dog park)
SUMMARY:Eastside Garden Work Party
END:VEVENT
END:VCALENDAR
