BEGIN:VCALENDAR
VERSION:2.0
PRODID:-//communityfoodinitiatives.org//NONSGML kigkonsult.se iCalcreator 2
 .30.10//
CALSCALE:GREGORIAN
METHOD:PUBLISH
UID:d63772db-438f-4da6-85e4-f3d0ef0eae41
X-WR-CALDESC:Join us in our community garden and either work in your own pl
 ot\, help with Donation Station plots\, or help a neighbor!  Tools are pro
 vided.  All are welcome!
X-WR-RELCALID:2c83bf9c384e5849622d5c771dec3c93
X-WR-TIMEZONE:America/New_York
BEGIN:VTIMEZONE
TZID:America/New_York
BEGIN:STANDARD
TZNAME:EST
DTSTART:20201101T020000
TZOFFSETFROM:-0400
TZOFFSETTO:-0500
RDATE:20211107T020000
RDATE:20221106T020000
END:STANDARD
BEGIN:DAYLIGHT
TZNAME:EDT
DTSTART:20210314T020000
TZOFFSETFROM:-0500
TZOFFSETTO:-0400
RDATE:20220313T020000
END:DAYLIGHT
END:VTIMEZONE
BEGIN:VEVENT
UID:a450686b-d04c-41b0-84cd-9d0a86ff03e5
DTSTAMP:20260426T024115Z
DESCRIPTION:Join us in our community garden and either work in your own plo
 t\, help with Donation Station plots\, or help a neighbor!  Tools are prov
 ided.  All are welcome!
DTSTART;TZID=America/New_York:20210715T160000
DTEND;TZID=America/New_York:20210715T180000
LOCATION:Nelsonville Community Garden (up the hill from the Mary Hill Cente
 r)\, Nelsonville\, OH
SUMMARY:Nelsonville Garden Work Party
END:VEVENT
END:VCALENDAR
