BEGIN:VCALENDAR
VERSION:2.0
PRODID:-//communityfoodinitiatives.org//NONSGML kigkonsult.se iCalcreator 2
 .30.10//
CALSCALE:GREGORIAN
METHOD:PUBLISH
UID:b60fd8fe-af76-44e4-94df-40fc481e1a02
X-WR-CALDESC:Join us in our community garden and either work in your own pl
 ot\, help with Donation Station plots\, or help a neighbor!  Tools are pro
 vided.  All are welcome!
X-WR-RELCALID:e6cf0a1fe818410e8db14524ad7c1d70
X-WR-TIMEZONE:America/New_York
BEGIN:VTIMEZONE
TZID:America/New_York
BEGIN:STANDARD
TZNAME:EST
DTSTART:20201101T020000
TZOFFSETFROM:-0400
TZOFFSETTO:-0500
RDATE:20211107T020000
RDATE:20221106T020000
END:STANDARD
BEGIN:DAYLIGHT
TZNAME:EDT
DTSTART:20210314T020000
TZOFFSETFROM:-0500
TZOFFSETTO:-0400
RDATE:20220313T020000
END:DAYLIGHT
END:VTIMEZONE
BEGIN:VEVENT
UID:372c0285-f527-406e-b654-1b87f5b570c6
DTSTAMP:20260426T040117Z
DESCRIPTION:Join us in our community garden and either work in your own plo
 t\, help with Donation Station plots\, or help a neighbor!  Tools are prov
 ided.  All are welcome!
DTSTART;TZID=America/New_York:20210623T100000
DTEND;TZID=America/New_York:20210623T120000
LOCATION:Southside Community Garden\, Athens\, OH (Near Campus Heights)
SUMMARY:Southside Garden Work Party
END:VEVENT
END:VCALENDAR
