BEGIN:VCALENDAR
VERSION:2.0
PRODID:-//communityfoodinitiatives.org//NONSGML kigkonsult.se iCalcreator 2
 .30.10//
CALSCALE:GREGORIAN
METHOD:PUBLISH
UID:537a933c-ee8b-4899-ba5c-5b14b50f177f
X-WR-CALDESC:Join us in our community garden and either work in your own pl
 ot\, help with Donation Station plots\, or help a neighbor!  Tools are pro
 vided.  All are welcome!
X-WR-RELCALID:0b9075472e22bc62d9aa0f143a1f1902
X-WR-TIMEZONE:America/New_York
BEGIN:VTIMEZONE
TZID:America/New_York
BEGIN:STANDARD
TZNAME:EST
DTSTART:20201101T020000
TZOFFSETFROM:-0400
TZOFFSETTO:-0500
RDATE:20211107T020000
RDATE:20221106T020000
END:STANDARD
BEGIN:DAYLIGHT
TZNAME:EDT
DTSTART:20210314T020000
TZOFFSETFROM:-0500
TZOFFSETTO:-0400
RDATE:20220313T020000
END:DAYLIGHT
END:VTIMEZONE
BEGIN:VEVENT
UID:c44695c2-acde-4a31-84e7-6e3b623d13f9
DTSTAMP:20260426T040225Z
DESCRIPTION:Join us in our community garden and either work in your own plo
 t\, help with Donation Station plots\, or help a neighbor!  Tools are prov
 ided.  All are welcome!
DTSTART;TZID=America/New_York:20210603T160000
DTEND;TZID=America/New_York:20210603T180000
LOCATION:Nelsonville Community Garden (up the hill from the Mary Hill Cente
 r)\, Nelsonville\, OH
SUMMARY:Nelsonville Garden Work Party
END:VEVENT
END:VCALENDAR
