BEGIN:VCALENDAR
VERSION:2.0
PRODID:-//communityfoodinitiatives.org//NONSGML kigkonsult.se iCalcreator 2
 .30.10//
CALSCALE:GREGORIAN
METHOD:PUBLISH
UID:5f183c55-a9f2-41ae-bf11-aa6005017366
X-WR-CALDESC:
X-WR-RELCALID:73a469110bf55615eca88d77f4f7192e
X-WR-TIMEZONE:America/New_York
BEGIN:VTIMEZONE
TZID:America/New_York
BEGIN:STANDARD
TZNAME:EST
DTSTART:20181104T020000
TZOFFSETFROM:-0400
TZOFFSETTO:-0500
RDATE:20191103T020000
END:STANDARD
BEGIN:DAYLIGHT
TZNAME:EDT
DTSTART:20180311T020000
TZOFFSETFROM:-0500
TZOFFSETTO:-0400
RDATE:20190310T020000
RDATE:20200308T020000
END:DAYLIGHT
END:VTIMEZONE
BEGIN:VEVENT
UID:f8e1d31f-cfc3-438c-8df5-1d8fa0596282
DTSTAMP:20260424T074806Z
DESCRIPTION:
DTSTART;TZID=America/New_York:20190213T173000
DTEND;TZID=America/New_York:20190213T190000
LOCATION:Rural Action's Conference Room (9030 Hocking Hills Dr\, The Plains
 \, OH 45780)
SUMMARY:Board Member Meeting
END:VEVENT
END:VCALENDAR
