BEGIN:VCALENDAR
VERSION:2.0
PRODID:-//communityfoodinitiatives.org//NONSGML kigkonsult.se iCalcreator 2
 .30.10//
CALSCALE:GREGORIAN
METHOD:PUBLISH
UID:02ed063e-7c9f-48ed-8f37-944c8c837bf0
X-WR-CALDESC:
X-WR-RELCALID:44a25771996f9fa31cd2ed9092d4409f
X-WR-TIMEZONE:America/New_York
BEGIN:VTIMEZONE
TZID:America/New_York
BEGIN:STANDARD
TZNAME:EST
DTSTART:20181104T020000
TZOFFSETFROM:-0400
TZOFFSETTO:-0500
RDATE:20191103T020000
END:STANDARD
BEGIN:DAYLIGHT
TZNAME:EDT
DTSTART:20180311T020000
TZOFFSETFROM:-0500
TZOFFSETTO:-0400
RDATE:20190310T020000
RDATE:20200308T020000
END:DAYLIGHT
END:VTIMEZONE
BEGIN:VEVENT
UID:bdd4573f-36fe-413f-987f-bf155d08592c
DTSTAMP:20260424T092612Z
DESCRIPTION:
DTSTART;TZID=America/New_York:20190109T173000
DTEND;TZID=America/New_York:20190109T190000
LOCATION:Rural Action's Conference Room (9030 Hocking Hills Dr\, The Plains
 \, OH 45780)
SUMMARY:Board Member Meeting
END:VEVENT
END:VCALENDAR
