BEGIN:VCALENDAR
VERSION:2.0
PRODID:-//communityfoodinitiatives.org//NONSGML kigkonsult.se iCalcreator 2
 .30.10//
CALSCALE:GREGORIAN
METHOD:PUBLISH
UID:25a0fae2-bbc3-4928-90e4-f9ac14457def
X-WR-CALDESC:Join Donation Station staff as they collect monetary and produ
 ce donations at the Athens Farmers market on Wednesdays from 9-1. If inter
 ested\, please click on the Volunteer Interest Form link below and fill ou
 t a volunteer interest form. Our team will be in contact within 24 hours.
X-WR-RELCALID:b820a2228ddcb94f02fc7cfe869ce0e1
X-WR-TIMEZONE:America/New_York
BEGIN:VTIMEZONE
TZID:America/New_York
BEGIN:STANDARD
TZNAME:EST
DTSTART:20181104T020000
TZOFFSETFROM:-0400
TZOFFSETTO:-0500
RDATE:20191103T020000
END:STANDARD
BEGIN:DAYLIGHT
TZNAME:EDT
DTSTART:20180311T020000
TZOFFSETFROM:-0500
TZOFFSETTO:-0400
RDATE:20190310T020000
RDATE:20200308T020000
END:DAYLIGHT
END:VTIMEZONE
BEGIN:VEVENT
UID:8c468126-1077-40e1-8c40-32c531620a59
DTSTAMP:20260424T121518Z
DESCRIPTION:Join Donation Station staff as they collect monetary and produc
 e donations at the Athens Farmers market on Wednesdays from 9-1. If intere
 sted\, please click on the Volunteer Interest Form link below and fill out
  a volunteer interest form. Our team will be in contact within 24 hours.
DTSTART;TZID=America/New_York:20181121T153000
DTEND;TZID=America/New_York:20181121T163000
LOCATION:Athens Farmers Market 1000 E State St\, Athens\, OH 45701
SUMMARY:Athens Farmers Market Donation Station Volunteer
END:VEVENT
END:VCALENDAR
