BEGIN:VCALENDAR
VERSION:2.0
PRODID:-//communityfoodinitiatives.org//NONSGML kigkonsult.se iCalcreator 2
 .30.10//
CALSCALE:GREGORIAN
METHOD:PUBLISH
UID:ba7a7f3d-9ca5-4aff-b8b1-7ad7fba1a4d0
X-WR-CALDESC:Come get your hands dirty and help with routine garden mainten
 ance at our community garden! If interested click on the volunteer interes
 t form below. Fill out a volunteer interest form and our staff will be in 
 touch within 24 hours.
X-WR-RELCALID:e5ee69e0b492580ea2140f5a1eb55999
X-WR-TIMEZONE:America/New_York
BEGIN:VTIMEZONE
TZID:America/New_York
BEGIN:STANDARD
TZNAME:EST
DTSTART:20181104T020000
TZOFFSETFROM:-0400
TZOFFSETTO:-0500
RDATE:20191103T020000
END:STANDARD
BEGIN:DAYLIGHT
TZNAME:EDT
DTSTART:20180311T020000
TZOFFSETFROM:-0500
TZOFFSETTO:-0400
RDATE:20190310T020000
RDATE:20200308T020000
END:DAYLIGHT
END:VTIMEZONE
BEGIN:VEVENT
UID:40655e10-541e-4d98-9537-dc155bddcfde
DTSTAMP:20260424T121845Z
DESCRIPTION:Come get your hands dirty and help with routine garden maintena
 nce at our community garden! If interested click on the volunteer interest
  form below. Fill out a volunteer interest form and our staff will be in t
 ouch within 24 hours.
DTSTART;TZID=America/New_York:20181115T180000
DTEND;TZID=America/New_York:20181115T200000
LOCATION:Nelsonville Community Garden
SUMMARY:Garden Work Party
END:VEVENT
END:VCALENDAR
