BEGIN:VCALENDAR
VERSION:2.0
PRODID:-//communityfoodinitiatives.org//NONSGML kigkonsult.se iCalcreator 2
 .30.10//
CALSCALE:GREGORIAN
METHOD:PUBLISH
UID:b1e96a26-498a-4eb7-a203-1cd380d7b9ad
X-WR-CALDESC:
X-WR-RELCALID:4b861be08ba3fc62b9a2bd517809ecad
X-WR-TIMEZONE:America/New_York
BEGIN:VTIMEZONE
TZID:America/New_York
BEGIN:STANDARD
TZNAME:EST
DTSTART:20181104T020000
TZOFFSETFROM:-0400
TZOFFSETTO:-0500
RDATE:20191103T020000
END:STANDARD
BEGIN:DAYLIGHT
TZNAME:EDT
DTSTART:20180311T020000
TZOFFSETFROM:-0500
TZOFFSETTO:-0400
RDATE:20190310T020000
RDATE:20200308T020000
END:DAYLIGHT
END:VTIMEZONE
BEGIN:VEVENT
UID:e1b3c00f-259a-41f3-b97f-25d4ba85513c
DTSTAMP:20260424T120757Z
DESCRIPTION:
DTSTART;TZID=America/New_York:20181114T173000
DTEND;TZID=America/New_York:20181114T190000
LOCATION:Rural Action's Conference Room (9030 Hocking Hills Dr\, The Plains
 \, OH 45780)
SUMMARY:Board Member Meeting
END:VEVENT
END:VCALENDAR
