BEGIN:VCALENDAR
VERSION:2.0
PRODID:-//communityfoodinitiatives.org//NONSGML kigkonsult.se iCalcreator 2
 .30.10//
CALSCALE:GREGORIAN
METHOD:PUBLISH
UID:ee5939db-4656-4076-8395-8fe5d9dbfa7f
X-WR-CALDESC:Join Donation Station staff as they collect monetary and produ
 ce donations at the Athens Farmers market on Wednesdays from 9-1. If inter
 ested\, please click on the Volunteer Interest Form link below and fill ou
 t a volunteer interest form. Our team will be in contact within 24 hours.
X-WR-RELCALID:0c82982bd230b31c2121a258a0419385
X-WR-TIMEZONE:America/New_York
BEGIN:VTIMEZONE
TZID:America/New_York
BEGIN:STANDARD
TZNAME:EST
DTSTART:20181104T020000
TZOFFSETFROM:-0400
TZOFFSETTO:-0500
RDATE:20191103T020000
END:STANDARD
BEGIN:DAYLIGHT
TZNAME:EDT
DTSTART:20180311T020000
TZOFFSETFROM:-0500
TZOFFSETTO:-0400
RDATE:20190310T020000
RDATE:20200308T020000
END:DAYLIGHT
END:VTIMEZONE
BEGIN:VEVENT
UID:d007bd84-7383-4123-8c3a-a72b6ceb9a3e
DTSTAMP:20260424T121555Z
DESCRIPTION:Join Donation Station staff as they collect monetary and produc
 e donations at the Athens Farmers market on Wednesdays from 9-1. If intere
 sted\, please click on the Volunteer Interest Form link below and fill out
  a volunteer interest form. Our team will be in contact within 24 hours.
DTSTART;TZID=America/New_York:20181114T153000
DTEND;TZID=America/New_York:20181114T163000
LOCATION:Athens Farmers Market 1000 E State St\, Athens\, OH 45701
SUMMARY:Athens Farmers Market Donation Station Volunteer
END:VEVENT
END:VCALENDAR
