BEGIN:VCALENDAR
VERSION:2.0
PRODID:-//communityfoodinitiatives.org//NONSGML kigkonsult.se iCalcreator 2
 .30.10//
CALSCALE:GREGORIAN
METHOD:PUBLISH
UID:8ec4f2a6-2471-4fb5-badc-fcda119be99c
X-WR-CALDESC:Join us at the East Side Community Garden for a Garden Work Pa
 rty. The garden is located behind the East State St. Dog Park on E. Park D
 r. \n\nVolunteers will help weed and water plants in garden plots\, turn c
 ompost\, mulch walkways and more! Please wear garden clothes\, closed toe 
 shoes and bring plenty of water.
X-WR-RELCALID:07cd9532ba52065caab8e6eb69953887
X-WR-TIMEZONE:America/New_York
BEGIN:VTIMEZONE
TZID:America/New_York
BEGIN:STANDARD
TZNAME:EST
DTSTART:20171105T020000
TZOFFSETFROM:-0400
TZOFFSETTO:-0500
RDATE:20181104T020000
RDATE:20191103T020000
END:STANDARD
BEGIN:DAYLIGHT
TZNAME:EDT
DTSTART:20180311T020000
TZOFFSETFROM:-0500
TZOFFSETTO:-0400
RDATE:20190310T020000
END:DAYLIGHT
END:VTIMEZONE
BEGIN:VEVENT
UID:80fb70aa-d84c-47ef-9de9-24bd177cdf08
DTSTAMP:20260424T162341Z
DESCRIPTION:Join us at the East Side Community Garden for a Garden Work Par
 ty. The garden is located behind the East State St. Dog Park on E. Park Dr
 . \n\nVolunteers will help weed and water plants in garden plots\, turn co
 mpost\, mulch walkways and more! Please wear garden clothes\, closed toe s
 hoes and bring plenty of water.
DTSTART;TZID=America/New_York:20180827T180000
DTEND;TZID=America/New_York:20180827T200000
LOCATION:East Side Community Garden
SUMMARY:East Side Garden Work Party
END:VEVENT
END:VCALENDAR
