BEGIN:VCALENDAR
VERSION:2.0
PRODID:-//communityfoodinitiatives.org//NONSGML kigkonsult.se iCalcreator 2
 .30.10//
CALSCALE:GREGORIAN
METHOD:PUBLISH
UID:d531b5a6-84e7-41dd-8ef0-9f1185c51bb6
X-WR-CALDESC:Join us at the East Side Community Garden for a Garden Work Pa
 rty. The garden is located behind the East State St. Dog Park on E. Park D
 r. \n\nVolunteers will help weed and water plants in garden plots\, turn c
 ompost\, mulch walkways and more! Please wear garden clothes\, closed toe 
 shoes and bring plenty of water.
X-WR-RELCALID:b2d49ce2a3af3fc5e9f73245d9e32cc9
X-WR-TIMEZONE:America/New_York
BEGIN:VTIMEZONE
TZID:America/New_York
BEGIN:STANDARD
TZNAME:EST
DTSTART:20171105T020000
TZOFFSETFROM:-0400
TZOFFSETTO:-0500
RDATE:20181104T020000
RDATE:20191103T020000
END:STANDARD
BEGIN:DAYLIGHT
TZNAME:EDT
DTSTART:20180311T020000
TZOFFSETFROM:-0500
TZOFFSETTO:-0400
RDATE:20190310T020000
END:DAYLIGHT
END:VTIMEZONE
BEGIN:VEVENT
UID:72e45848-e420-4028-b598-e41be4946692
DTSTAMP:20260424T173630Z
DESCRIPTION:Join us at the East Side Community Garden for a Garden Work Par
 ty. The garden is located behind the East State St. Dog Park on E. Park Dr
 . \n\nVolunteers will help weed and water plants in garden plots\, turn co
 mpost\, mulch walkways and more! Please wear garden clothes\, closed toe s
 hoes and bring plenty of water.
DTSTART;TZID=America/New_York:20180716T180000
DTEND;TZID=America/New_York:20180716T200000
LOCATION:East Side Community Garden
SUMMARY:East Side Garden Work Party
END:VEVENT
END:VCALENDAR
