BEGIN:VCALENDAR
VERSION:2.0
PRODID:-//communityfoodinitiatives.org//NONSGML kigkonsult.se iCalcreator 2
 .30.10//
CALSCALE:GREGORIAN
METHOD:PUBLISH
UID:9500dd79-a099-4e30-ac73-4ff5eca52bdf
X-WR-CALDESC:These garden parties are great opportunities to connect with y
 our fellow gardeners\, learn more about gardening\, and do communal mainte
 nance projects. Volunteers welcome!
X-WR-RELCALID:865ec850ecbd1122f38caa438fb9fd3e
X-WR-TIMEZONE:America/New_York
BEGIN:VTIMEZONE
TZID:America/New_York
BEGIN:STANDARD
TZNAME:EST
DTSTART:20161106T020000
TZOFFSETFROM:-0400
TZOFFSETTO:-0500
RDATE:20171105T020000
RDATE:20181104T020000
END:STANDARD
BEGIN:DAYLIGHT
TZNAME:EDT
DTSTART:20170312T020000
TZOFFSETFROM:-0500
TZOFFSETTO:-0400
RDATE:20180311T020000
END:DAYLIGHT
END:VTIMEZONE
BEGIN:VEVENT
UID:2187e4be-af9d-4c40-8989-3f0d8ef998ab
DTSTAMP:20260425T111726Z
DESCRIPTION:These garden parties are great opportunities to connect with yo
 ur fellow gardeners\, learn more about gardening\, and do communal mainten
 ance projects. Volunteers welcome!
DTSTART;TZID=America/New_York:20170726T090000
DTEND;TZID=America/New_York:20170726T110000
LOCATION:Southside Community Garden
SUMMARY:Glouster Community Garden Work Party
END:VEVENT
END:VCALENDAR
