BEGIN:VCALENDAR
VERSION:2.0
PRODID:-//communityfoodinitiatives.org//NONSGML kigkonsult.se iCalcreator 2
 .30.10//
CALSCALE:GREGORIAN
METHOD:PUBLISH
UID:f8d267a7-4b20-409b-af7e-27b4f4611563
X-WR-CALDESC:
X-WR-RELCALID:a6ae3295f018cd8d2272cf6eac2954f5
X-WR-TIMEZONE:America/New_York
BEGIN:VTIMEZONE
TZID:America/New_York
BEGIN:STANDARD
TZNAME:EST
DTSTART:20161106T020000
TZOFFSETFROM:-0400
TZOFFSETTO:-0500
RDATE:20171105T020000
RDATE:20181104T020000
END:STANDARD
BEGIN:DAYLIGHT
TZNAME:EDT
DTSTART:20170312T020000
TZOFFSETFROM:-0500
TZOFFSETTO:-0400
RDATE:20180311T020000
END:DAYLIGHT
END:VTIMEZONE
BEGIN:VEVENT
UID:7a104b34-e414-4af3-a71c-04f56f8b92e5
DTSTAMP:20260425T111503Z
DESCRIPTION:
DTSTART;TZID=America/New_York:20170712T173000
DTEND;TZID=America/New_York:20170712T190000
LOCATION:Rural Action's Conference Room (9030 Hocking Hills Dr\, The Plains
 \, OH 45780)
SUMMARY:Board Member Meeting
END:VEVENT
END:VCALENDAR
