BEGIN:VCALENDAR
VERSION:2.0
PRODID:-//communityfoodinitiatives.org//NONSGML kigkonsult.se iCalcreator 2
 .30.10//
CALSCALE:GREGORIAN
METHOD:PUBLISH
UID:18381ac6-ff97-454b-884d-3c25deb4e950
X-WR-CALDESC:Community Food Initiatives will be hosting its annual seed giv
 eaway for people in need of seeds. Help us hand out a wide variety of frui
 t\, vegetable\, and herb seeds with a CFI staff member and Master Gardener
 .\n\nPlease sign up with your availability here: https://docs.google.com/s
 preadsheets/d/1Dr4E2ae2KbKfXpNXFaCZUA4sdCHgio923CWhQUhc8HE/edit?usp=sharin
 g\n
X-WR-RELCALID:1b36557191cdc17f9071818d2145e8d1
X-WR-TIMEZONE:America/New_York
BEGIN:VTIMEZONE
TZID:America/New_York
BEGIN:STANDARD
TZNAME:EST
DTSTART:20161106T020000
TZOFFSETFROM:-0400
TZOFFSETTO:-0500
RDATE:20171105T020000
END:STANDARD
BEGIN:DAYLIGHT
TZNAME:EDT
DTSTART:20170312T020000
TZOFFSETFROM:-0500
TZOFFSETTO:-0400
RDATE:20180311T020000
END:DAYLIGHT
END:VTIMEZONE
BEGIN:VEVENT
UID:61c2ef70-e2ef-4d6a-97b9-482a36670688
DTSTAMP:20260425T155437Z
DESCRIPTION:Community Food Initiatives will be hosting its annual seed give
 away for people in need of seeds. Help us hand out a wide variety of fruit
 \, vegetable\, and herb seeds with a CFI staff member and Master Gardener.
 \n\nPlease sign up with your availability here: https://docs.google.com/sp
 readsheets/d/1Dr4E2ae2KbKfXpNXFaCZUA4sdCHgio923CWhQUhc8HE/edit?usp=sharing
 \n
DTSTART;TZID=America/New_York:20170424T173000
DTEND;TZID=America/New_York:20170424T183000
LOCATION:East Park Drive behind dog park\, Athens\, Ohio\, 45710
SUMMARY:Seed Giveaway : Eastside Community Garden
END:VEVENT
END:VCALENDAR
