BEGIN:VCALENDAR
VERSION:2.0
PRODID:-//communityfoodinitiatives.org//NONSGML kigkonsult.se iCalcreator 2
 .30.10//
CALSCALE:GREGORIAN
METHOD:PUBLISH
UID:283abf4c-f8dc-478c-bc8e-0952f0d85a82
X-WR-CALDESC:Community Food Initiatives will be hosting its annual seed giv
 eaway for people in need of seeds. Help us hand out a wide variety of frui
 t\, vegetable\, and herb seeds with a CFI staff member and Master Gardener
 .\n\nPlease sign up with your availability here: https://docs.google.com/s
 preadsheets/d/1Dr4E2ae2KbKfXpNXFaCZUA4sdCHgio923CWhQUhc8HE/edit?usp=sharin
 g\n
X-WR-RELCALID:38dc357ee31e1d6e52460ba84906ecdd
X-WR-TIMEZONE:America/New_York
BEGIN:VTIMEZONE
TZID:America/New_York
BEGIN:STANDARD
TZNAME:EST
DTSTART:20161106T020000
TZOFFSETFROM:-0400
TZOFFSETTO:-0500
RDATE:20171105T020000
END:STANDARD
BEGIN:DAYLIGHT
TZNAME:EDT
DTSTART:20170312T020000
TZOFFSETFROM:-0500
TZOFFSETTO:-0400
RDATE:20180311T020000
END:DAYLIGHT
END:VTIMEZONE
BEGIN:VEVENT
UID:9e043e25-0999-4c23-b4e0-8e919f91d94c
DTSTAMP:20260425T155247Z
DESCRIPTION:Community Food Initiatives will be hosting its annual seed give
 away for people in need of seeds. Help us hand out a wide variety of fruit
 \, vegetable\, and herb seeds with a CFI staff member and Master Gardener.
 \n\nPlease sign up with your availability here: https://docs.google.com/sp
 readsheets/d/1Dr4E2ae2KbKfXpNXFaCZUA4sdCHgio923CWhQUhc8HE/edit?usp=sharing
 \n
DTSTART;TZID=America/New_York:20170421T163000
DTEND;TZID=America/New_York:20170421T173000
LOCATION:26401 Main Street\, Coolville\, Ohio\, 45723
SUMMARY:Seed Giveaway : Coolville Public Library
END:VEVENT
END:VCALENDAR
