BEGIN:VCALENDAR
VERSION:2.0
PRODID:-//communityfoodinitiatives.org//NONSGML kigkonsult.se iCalcreator 2
 .30.10//
CALSCALE:GREGORIAN
METHOD:PUBLISH
UID:24952648-8eb4-4558-b524-2a4139a1834c
X-WR-CALDESC:Community Food Initiatives will be hosting its annual seed giv
 eaway for people in need of seeds. Help us hand out a wide variety of frui
 t\, vegetable\, and herb seeds with a CFI staff member and Master Gardener
 .\n\nPlease sign up with your availability here: https://docs.google.com/s
 preadsheets/d/1Dr4E2ae2KbKfXpNXFaCZUA4sdCHgio923CWhQUhc8HE/edit?usp=sharin
 g\n
X-WR-RELCALID:ed19f3a4787e18c6471b59329adf2263
X-WR-TIMEZONE:America/New_York
BEGIN:VTIMEZONE
TZID:America/New_York
BEGIN:STANDARD
TZNAME:EST
DTSTART:20161106T020000
TZOFFSETFROM:-0400
TZOFFSETTO:-0500
RDATE:20171105T020000
END:STANDARD
BEGIN:DAYLIGHT
TZNAME:EDT
DTSTART:20170312T020000
TZOFFSETFROM:-0500
TZOFFSETTO:-0400
RDATE:20180311T020000
END:DAYLIGHT
END:VTIMEZONE
BEGIN:VEVENT
UID:6c125464-6160-49a8-894e-50312db459de
DTSTAMP:20260425T155651Z
DESCRIPTION:Community Food Initiatives will be hosting its annual seed give
 away for people in need of seeds. Help us hand out a wide variety of fruit
 \, vegetable\, and herb seeds with a CFI staff member and Master Gardener.
 \n\nPlease sign up with your availability here: https://docs.google.com/sp
 readsheets/d/1Dr4E2ae2KbKfXpNXFaCZUA4sdCHgio923CWhQUhc8HE/edit?usp=sharing
 \n
DTSTART;TZID=America/New_York:20170418T173000
DTEND;TZID=America/New_York:20170418T183000
LOCATION:115 Carriage Hill Drive\, Athens\, Ohio\, 45701
SUMMARY:Seed Giveaway : Southside/Carriage Hill Community Garden
END:VEVENT
END:VCALENDAR
