BEGIN:VCALENDAR
VERSION:2.0
PRODID:-//communityfoodinitiatives.org//NONSGML kigkonsult.se iCalcreator 2
 .30.10//
CALSCALE:GREGORIAN
METHOD:PUBLISH
UID:eecdaace-74dc-4c79-a6bb-1571efe96ac8
X-WR-CALDESC:Community Food Initiatives will be hosting its annual seed giv
 eaway for people in need of seeds.   Help us hand out a wide variety of fr
 uit\, vegetable\, and herb seeds with a CFI staff member and Master Garden
 er.\n\nPlease sign up with your availability here: https://docs.google.com
 /spreadsheets/d/1Dr4E2ae2KbKfXpNXFaCZUA4sdCHgio923CWhQUhc8HE/edit?usp=shar
 ing\n
X-WR-RELCALID:2e5780f91a54e6d826037f4fa38c9fcd
X-WR-TIMEZONE:America/New_York
BEGIN:VTIMEZONE
TZID:America/New_York
BEGIN:STANDARD
TZNAME:EST
DTSTART:20161106T020000
TZOFFSETFROM:-0400
TZOFFSETTO:-0500
RDATE:20171105T020000
END:STANDARD
BEGIN:DAYLIGHT
TZNAME:EDT
DTSTART:20170312T020000
TZOFFSETFROM:-0500
TZOFFSETTO:-0400
RDATE:20180311T020000
END:DAYLIGHT
END:VTIMEZONE
BEGIN:VEVENT
UID:18e86717-529b-48f3-b45c-aa2325916b59
DTSTAMP:20260425T155325Z
DESCRIPTION:Community Food Initiatives will be hosting its annual seed give
 away for people in need of seeds.   Help us hand out a wide variety of fru
 it\, vegetable\, and herb seeds with a CFI staff member and Master Gardene
 r.\n\nPlease sign up with your availability here: https://docs.google.com/
 spreadsheets/d/1Dr4E2ae2KbKfXpNXFaCZUA4sdCHgio923CWhQUhc8HE/edit?usp=shari
 ng\n
DTSTART;TZID=America/New_York:20170417T170000
DTEND;TZID=America/New_York:20170417T180000
LOCATION:95 West Washington Street\, Nelsonville\, Ohio\, 45764
SUMMARY:Seed Giveaway : Nelsonville Public Library
END:VEVENT
END:VCALENDAR
