BEGIN:VCALENDAR
VERSION:2.0
PRODID:-//communityfoodinitiatives.org//NONSGML kigkonsult.se iCalcreator 2
 .30.10//
CALSCALE:GREGORIAN
METHOD:PUBLISH
UID:87c474b7-477c-4c5b-88a0-05ca8cc8addf
X-WR-CALDESC:Community Food Initiatives will be hosting its annual seed giv
 eaway for people in need of seeds.   Help us hand out a wide variety of fr
 uit\, vegetable\, and herb seeds with a CFI staff member and Master Garden
 er.\n\nPlease sign up with your availability here: https://docs.google.com
 /spreadsheets/d/1Dr4E2ae2KbKfXpNXFaCZUA4sdCHgio923CWhQUhc8HE/edit?usp=shar
 ing\n
X-WR-RELCALID:1becd6afa91f0411c5d47c5af2e14c0e
X-WR-TIMEZONE:America/New_York
BEGIN:VTIMEZONE
TZID:America/New_York
BEGIN:STANDARD
TZNAME:EST
DTSTART:20161106T020000
TZOFFSETFROM:-0400
TZOFFSETTO:-0500
RDATE:20171105T020000
END:STANDARD
BEGIN:DAYLIGHT
TZNAME:EDT
DTSTART:20170312T020000
TZOFFSETFROM:-0500
TZOFFSETTO:-0400
RDATE:20180311T020000
END:DAYLIGHT
END:VTIMEZONE
BEGIN:VEVENT
UID:02bc0bd1-205c-4281-a0e9-b64c82102505
DTSTAMP:20260425T155815Z
DESCRIPTION:Community Food Initiatives will be hosting its annual seed give
 away for people in need of seeds.   Help us hand out a wide variety of fru
 it\, vegetable\, and herb seeds with a CFI staff member and Master Gardene
 r.\n\nPlease sign up with your availability here: https://docs.google.com/
 spreadsheets/d/1Dr4E2ae2KbKfXpNXFaCZUA4sdCHgio923CWhQUhc8HE/edit?usp=shari
 ng\n
DTSTART;TZID=America/New_York:20170417T130000
DTEND;TZID=America/New_York:20170417T140000
LOCATION:13183 State Route 13\, Millfield\, Ohio\, 45761
SUMMARY:Seed Giveaway : Job and Family Services
END:VEVENT
END:VCALENDAR
