BEGIN:VCALENDAR
VERSION:2.0
PRODID:-//communityfoodinitiatives.org//NONSGML kigkonsult.se iCalcreator 2
 .30.10//
CALSCALE:GREGORIAN
METHOD:PUBLISH
UID:a1538dbb-4c10-4f09-b005-5ea793444376
X-WR-CALDESC:
X-WR-RELCALID:bf4fa25911b28c73de81d227366d8537
X-WR-TIMEZONE:America/New_York
BEGIN:VTIMEZONE
TZID:America/New_York
BEGIN:STANDARD
TZNAME:EST
DTSTART:20161106T020000
TZOFFSETFROM:-0400
TZOFFSETTO:-0500
RDATE:20171105T020000
END:STANDARD
BEGIN:DAYLIGHT
TZNAME:EDT
DTSTART:20170312T020000
TZOFFSETFROM:-0500
TZOFFSETTO:-0400
RDATE:20180311T020000
END:DAYLIGHT
END:VTIMEZONE
BEGIN:VEVENT
UID:160e217a-517e-4e2b-a2ab-d6eaa097530d
DTSTAMP:20260425T155425Z
DESCRIPTION:
DTSTART;TZID=America/New_York:20170412T173000
DTEND;TZID=America/New_York:20170412T190000
LOCATION:Rural Action's Conference Room (9030 Hocking Hills Dr\, The Plains
 \, OH 45780)
SUMMARY:Board Member Meeting
END:VEVENT
END:VCALENDAR
